BEGIN:VCALENDAR
VERSION:2.0
PRODID:-//JMoon MakerSpace - ECPv6.15.1.1//NONSGML v1.0//EN
CALSCALE:GREGORIAN
METHOD:PUBLISH
X-WR-CALNAME:JMoon MakerSpace
X-ORIGINAL-URL:http://jmoonmaker.space
X-WR-CALDESC:Events for JMoon MakerSpace
REFRESH-INTERVAL;VALUE=DURATION:PT1H
X-Robots-Tag:noindex
X-PUBLISHED-TTL:PT1H
BEGIN:VTIMEZONE
TZID:Asia/Kolkata
BEGIN:STANDARD
TZOFFSETFROM:+0530
TZOFFSETTO:+0530
TZNAME:IST
DTSTART:20200101T000000
END:STANDARD
END:VTIMEZONE
BEGIN:VEVENT
DTSTART;TZID=Asia/Kolkata:20200321T100000
DTEND;TZID=Asia/Kolkata:20200321T170000
DTSTAMP:20260426T003519
CREATED:20200207T212311Z
LAST-MODIFIED:20200229T202639Z
UID:1876-1584784800-1584810000@jmoonmaker.space
SUMMARY:Arduino Day 2020
DESCRIPTION:11am: Introduction to Arduino (Workshop)\n1pm: Arduino & Beyond (Ask the Arduino Expert)\n2pm: Show & Tell\n3pm: Open Day \nSponsored by RoboRium.com (Arduino Distributor)
URL:http://jmoonmaker.space/event/arduino-day-2020/
LOCATION:JMoon MakerSpace\, A-51\, 2nd Floor\, Narang Colony\, Janak Puri\, New Delhi\, Delhi\, 110058\, India
CATEGORIES:Discussion,Workshop
ORGANIZER;CN="JMoon MakerSpace":MAILTO:makerspace@jmoon.co
END:VEVENT
END:VCALENDAR